BEGIN:VCALENDAR
VERSION:2.0
PRODID:-//OmniMagnetCalendar//EN
BEGIN:VEVENT
DTSTAMP:20190625T195740Z
STATUS:CONFIRMED
UID:hcspain.clubs.harvard.edu488
DTSTART:20191202T180000Z
DTEND:20191202T203000Z
LOCATION:Teatro Nuevo Apolo, Plaza de Tirso de Molina, 1, 28012Plaza de Tirso de Molina, 1, Madrid, 28012, Spain,
SUMMARY:"El Médico"+ charla y aperitivo 12 diciembre 2019 19:00 Teatro Nuevo Apolo Madrid
DESCRIPTION:
BEGIN:VALARM
TRIGGER:-PT15M
ACTION:DISPLAY
END:VALARM
TRANSP:OPAQUE
END:VEVENT
END:VCALENDAR
