BEGIN:VCALENDAR
VERSION:2.0
PRODID:-//OmniMagnetCalendar//EN
BEGIN:VEVENT
DTSTAMP:20190625T195740Z
STATUS:CONFIRMED
UID:hcspain.clubs.harvard.edu486
DTSTART:20191128T210000Z
DTEND:20191128T223000Z
LOCATION:Fundación Diario de Madrid, Larra 14, Madrid, Spain,
SUMMARY:Conferencia "La luz que se apaga" con Ivan Krastev y José Ignacio Torreblanca - 28 de noviembre a l
DESCRIPTION:
BEGIN:VALARM
TRIGGER:-PT15M
ACTION:DISPLAY
END:VALARM
TRANSP:OPAQUE
END:VEVENT
END:VCALENDAR
