BEGIN:VCALENDAR
VERSION:2.0
PRODID:-//OmniMagnetCalendar//EN
BEGIN:VEVENT
DTSTAMP:20190625T195740Z
STATUS:CONFIRMED
UID:hcspain.clubs.harvard.edu485
DTSTART:20191125T130000Z
DTEND:20191125T150000Z
LOCATION:Restaurante Joselito´s, C/ Velázquez, 30, Madrid, Spain,
SUMMARY:” Joselito, alcanzar el lujo en el jamón ibérico” con José Gómez, 6ta generación de Joselit
DESCRIPTION:
BEGIN:VALARM
TRIGGER:-PT15M
ACTION:DISPLAY
END:VALARM
TRANSP:OPAQUE
END:VEVENT
END:VCALENDAR
