BEGIN:VCALENDAR
VERSION:2.0
PRODID:-//OmniMagnetCalendar//EN
BEGIN:VEVENT
DTSTAMP:20190625T195740Z
STATUS:CONFIRMED
UID:hcspain.clubs.harvard.edu484
DTSTART:20191122T020000Z
DTEND:20191122T033000Z
LOCATION:
SUMMARY:HBS CLUB OF BARCELONA | Cena-coloquio con el Sr. Javier Faus, Presidente del Círculo de Economía d
DESCRIPTION:
BEGIN:VALARM
TRIGGER:-PT15M
ACTION:DISPLAY
END:VALARM
TRANSP:OPAQUE
END:VEVENT
END:VCALENDAR
