BEGIN:VCALENDAR
VERSION:2.0
PRODID:-//OmniMagnetCalendar//EN
BEGIN:VEVENT
DTSTAMP:20190625T195740Z
STATUS:CONFIRMED
UID:hcspain.clubs.harvard.edu483
DTSTART:20191117T013000Z
DTEND:20191117T033000Z
LOCATION:HOTEL PALACE, Plaza de las Cortes, 7, Madrid, Spain,
SUMMARY:Cena de Gala con Javier Moro, escritor. 16 de noviembre 20:30h Hotel Palace Madrid
DESCRIPTION:
BEGIN:VALARM
TRIGGER:-PT15M
ACTION:DISPLAY
END:VALARM
TRANSP:OPAQUE
END:VEVENT
END:VCALENDAR
