BEGIN:VCALENDAR
VERSION:2.0
PRODID:-//OmniMagnetCalendar//EN
BEGIN:VEVENT
DTSTAMP:20190625T195740Z
STATUS:CONFIRMED
UID:hcspain.clubs.harvard.edu482
DTSTART:20191029T233000Z
DTEND:20191030T013000Z
LOCATION:Andersen Tax & Legal, Velázquez 108-110, Madrid, 28006, Spain,
SUMMARY:Creativity and branding for the future Hubert Graf- October, 29- 19:30h./ Andersen Tax & Legal Madri
DESCRIPTION:
BEGIN:VALARM
TRIGGER:-PT15M
ACTION:DISPLAY
END:VALARM
TRANSP:OPAQUE
END:VEVENT
END:VCALENDAR
