BEGIN:VCALENDAR
VERSION:2.0
PRODID:-//OmniMagnetCalendar//EN
BEGIN:VEVENT
DTSTAMP:20190625T195740Z
STATUS:CONFIRMED
UID:hcspain.clubs.harvard.edu480
DTSTART:20191021T180000Z
DTEND:20191021T230000Z
LOCATION:Club Financiero Goya, Calle Marqués de la Ensenada 14-16, Madrid,
SUMMARY:Almuerzo-coloquio con Iván Macías, Director musical "El Médico" 21 octubre 2019 14:00h Club Finan
DESCRIPTION:
BEGIN:VALARM
TRIGGER:-PT15M
ACTION:DISPLAY
END:VALARM
TRANSP:OPAQUE
END:VEVENT
END:VCALENDAR
