BEGIN:VCALENDAR
VERSION:2.0
PRODID:-//OmniMagnetCalendar//EN
BEGIN:VEVENT
DTSTAMP:20190625T195740Z
STATUS:CONFIRMED
UID:hcspain.clubs.harvard.edu479
DTSTART:20191002T180000Z
DTEND:20191102T210000Z
LOCATION:Real Café Bernabéu,
SUMMARY:Welcome to Your City, 2 octubre 2019, 20:00h Real Café Bernabeu Madrid
DESCRIPTION:
BEGIN:VALARM
TRIGGER:-PT15M
ACTION:DISPLAY
END:VALARM
TRANSP:OPAQUE
END:VEVENT
END:VCALENDAR
