BEGIN:VCALENDAR
VERSION:2.0
PRODID:-//OmniMagnetCalendar//EN
BEGIN:VEVENT
DTSTAMP:20190625T195740Z
STATUS:CONFIRMED
UID:hcspain.clubs.harvard.edu477
DTSTART:20191006T063000Z
DTEND:20191006T183000Z
LOCATION:Campo de Golf Santander, Madrid, Spain,
SUMMARY:Match Golf HARVARD-INSEAD 6 octubre 2019 Campo Golf Santander, Madrid
DESCRIPTION:
BEGIN:VALARM
TRIGGER:-PT15M
ACTION:DISPLAY
END:VALARM
TRANSP:OPAQUE
END:VEVENT
END:VCALENDAR
