BEGIN:VCALENDAR
VERSION:2.0
PRODID:-//OmniMagnetCalendar//EN
BEGIN:VEVENT
DTSTAMP:20190625T195740Z
STATUS:CONFIRMED
UID:hcspain.clubs.harvard.edu476
DTSTART:20190924T170000Z
DTEND:20190924T200000Z
LOCATION:Loom Princesa, C/ Princesa 5, planta 4, Madrid, Madrid, Spain,
SUMMARY:Sesión HBS Angels Spain - 24 de septiembre 19:00 - Loom Princesa Madrid
DESCRIPTION:
BEGIN:VALARM
TRIGGER:-PT15M
ACTION:DISPLAY
END:VALARM
TRANSP:OPAQUE
END:VEVENT
END:VCALENDAR
