BEGIN:VCALENDAR
VERSION:2.0
PRODID:-//OmniMagnetCalendar//EN
BEGIN:VEVENT
DTSTAMP:20190625T195740Z
STATUS:CONFIRMED
UID:hcspain.clubs.harvard.edu470
DTSTART:20190919T233000Z
DTEND:20190920T013000Z
LOCATION:Business Center Mutua Madrileña, Paseo de la Castellana 33, Madrid, Madrid, Spain,
SUMMARY:Charla-coloquio con Ignacio Garralda, presidente Mutua Madrileña 19 septiembre 19:30h
DESCRIPTION:Business Center de Mutua Madrileña (Paseo de la Castellana, 33) 19 Septiembre 19:30h
BEGIN:VALARM
TRIGGER:-PT15M
ACTION:DISPLAY
END:VALARM
TRANSP:OPAQUE
END:VEVENT
END:VCALENDAR
