BEGIN:VCALENDAR
VERSION:2.0
PRODID:-//OmniMagnetCalendar//EN
BEGIN:VEVENT
DTSTAMP:20190625T195740Z
STATUS:CONFIRMED
UID:hcspain.clubs.harvard.edu469
DTSTART:20190925T181500Z
DTEND:20190925T203000Z
LOCATION:Vithas Internacional, Calle de Arturo Soria, 107, Madrid, Madrid, 28043, Spain,
SUMMARY:Conferencia "Anti-envejecimiento, nutrición, ejercicio y bienestar” Vithas Internacional 25 Septi
DESCRIPTION:Vithas Internacional (Calle de Arturo Soria, 107, 28043 Madrid) 25 Septiembre 2019 14:15h
BEGIN:VALARM
TRIGGER:-PT15M
ACTION:DISPLAY
END:VALARM
TRANSP:OPAQUE
END:VEVENT
END:VCALENDAR
