BEGIN:VCALENDAR
VERSION:2.0
PRODID:-//OmniMagnetCalendar//EN
BEGIN:VEVENT
DTSTAMP:20190625T195740Z
STATUS:CONFIRMED
UID:hcspain.clubs.harvard.edu467
DTSTART:20190717T003013Z
DTEND:20190717T033013Z
LOCATION:Restaurante El Principal, Carrer de Provença, 286-288, Barcelona, Spain, 08008 , Spain,
SUMMARY:| HBS CLUB OF BARCELONA | CENA-COLOQUIO CON EL SR. JESÚS ENCINAR | MARTES 16 DE JULIO 8.30pm | Rest
DESCRIPTION:MARTES 16 DE JULIO 8.30pm | Restaurante el Principal
BEGIN:VALARM
TRIGGER:-PT15M
ACTION:DISPLAY
END:VALARM
TRANSP:OPAQUE
END:VEVENT
END:VCALENDAR
