BEGIN:VCALENDAR
VERSION:2.0
PRODID:-//OmniMagnetCalendar//EN
BEGIN:VEVENT
DTSTAMP:20190625T195740Z
STATUS:CONFIRMED
UID:hcspain.clubs.harvard.edu465
DTSTART:20190710T190000Z
DTEND:20190710T210000Z
LOCATION:Calle Hermanos Bécquer, 3, Madrid, Madrid, Spain,
SUMMARY:GARDEN PARTY 10 de Julio 2019 21:00h - Jardín Palacete (BNP Paribas) - Hermanos Bécquer 3 Madrid
DESCRIPTION:10 de Julio 2019 21:00 - 23:00 h (Calle Hermanos Bécquer, 3 - Madrid)
BEGIN:VALARM
TRIGGER:-PT15M
ACTION:DISPLAY
END:VALARM
TRANSP:OPAQUE
END:VEVENT
END:VCALENDAR
