BEGIN:VCALENDAR
VERSION:2.0
PRODID:-//OmniMagnetCalendar//EN
BEGIN:VEVENT
DTSTAMP:20190625T195740Z
STATUS:CONFIRMED
UID:hcspain.clubs.harvard.edu464
DTSTART:20190626T120000Z
DTEND:20190626T140000Z
LOCATION:Club Financiero Génova, Calle Marqués de Ensenada, 14-16, Madrid, Madrid, 28004 , Spain,
SUMMARY:Almuerzo-coloquio con Cristina Garmendia 26 Junio 2019 14:00h (Club Financiero Génova, Madrid)
DESCRIPTION:26 Junio 2019 14:00h Club Financiero Génova - Madrid
BEGIN:VALARM
TRIGGER:-PT15M
ACTION:DISPLAY
END:VALARM
TRANSP:OPAQUE
END:VEVENT
END:VCALENDAR
