BEGIN:VCALENDAR
VERSION:2.0
PRODID:-//OmniMagnetCalendar//EN
BEGIN:VEVENT
DTSTAMP:20190625T195740Z
STATUS:CONFIRMED
UID:hcspain.clubs.harvard.edu463
DTSTART:20190618T170000Z
DTEND:20190618T190000Z
LOCATION:Cuatrecasas, C/ Almagro 9, Madrid, Madrid, 28010, Spain,
SUMMARY:Sesión HBS Angels 18 Junio 2019 - 19:00h  Cuatrecasas (Madrid/Barcelona)
DESCRIPTION:18 Junio 2019 - 19:00h  Cuatrecasas (Madrid/Barcelona)
BEGIN:VALARM
TRIGGER:-PT15M
ACTION:DISPLAY
END:VALARM
TRANSP:OPAQUE
END:VEVENT
END:VCALENDAR
