BEGIN:VCALENDAR
VERSION:2.0
PRODID:-//OmniMagnetCalendar//EN
BEGIN:VEVENT
DTSTAMP:20190625T195740Z
STATUS:CONFIRMED
UID:hcspain.clubs.harvard.edu462
DTSTART:20190619T173000Z
DTEND:20190619T190000Z
LOCATION:Edificio Mutua Madrileña, Calle Fortuny, 20, Madrid, Madrid, 28010, Spain,
SUMMARY:HBS Professor Thales Teixeira "A Recipe for Digital Disruption" 19 Junio 2019 (Mutuactivos, Madrid)
DESCRIPTION:19 Junio 2019 a las 19:30 (Edificio Mutua Madrileña, Calle Fortuny, 20, 28010 Madrid)
BEGIN:VALARM
TRIGGER:-PT15M
ACTION:DISPLAY
END:VALARM
TRANSP:OPAQUE
END:VEVENT
END:VCALENDAR
