BEGIN:VCALENDAR
VERSION:2.0
PRODID:-//OmniMagnetCalendar//EN
BEGIN:VEVENT
DTSTAMP:20190625T195740Z
STATUS:CONFIRMED
UID:hcspain.clubs.harvard.edu460
DTSTART:20190110T190000Z
DTEND:20190111T190000Z
LOCATION:El Principal, Carrer de Provença, 286-288, Barcelona, Barcelona, 08008, Spain,
SUMMARY:| HBS CLUB OF BARCELONA | Cena-coloquio con Elsa Artadi - Consejera de la Presidencia y Portavoz del
DESCRIPTION:Jueves 10 de Enero 20:00h (Restaurante el Principal)
BEGIN:VALARM
TRIGGER:-PT15M
ACTION:DISPLAY
END:VALARM
TRANSP:OPAQUE
END:VEVENT
END:VCALENDAR
