BEGIN:VCALENDAR
VERSION:2.0
PRODID:-//OmniMagnetCalendar//EN
BEGIN:VEVENT
DTSTAMP:20190625T195740Z
STATUS:CONFIRMED
UID:hcspain.clubs.harvard.edu457
DTSTART:20190508T120000Z
DTEND:20190508T120000Z
LOCATION:
SUMMARY:"Venezuela: Epicentro de una nueva Geopolítica?" Antonio Ledezma/Gilberto Carrasquero 8 de mayo 201
DESCRIPTION:
BEGIN:VALARM
TRIGGER:-PT15M
ACTION:DISPLAY
END:VALARM
TRANSP:OPAQUE
END:VEVENT
END:VCALENDAR
