BEGIN:VCALENDAR
VERSION:2.0
PRODID:-//OmniMagnetCalendar//EN
BEGIN:VEVENT
DTSTAMP:20190625T195740Z
STATUS:CONFIRMED
UID:hcspain.clubs.harvard.edu456
DTSTART:20190529T170000Z
DTEND:20190529T170000Z
LOCATION:Teatro Nuevo Apolo, Plaza de Tirso de Molina, 1, Madrid, Madrid, 28012, Spain,
SUMMARY:Musical "El Médico" + charla y aperitivo 29 de Mayo 2019 19:00h
DESCRIPTION:Teatro Nuevo Apolo (Plaza de Tirso de Molina, 1, 28012) a las 19:00h
BEGIN:VALARM
TRIGGER:-PT15M
ACTION:DISPLAY
END:VALARM
TRANSP:OPAQUE
END:VEVENT
END:VCALENDAR
