BEGIN:VCALENDAR
VERSION:2.0
PRODID:-//OmniMagnetCalendar//EN
BEGIN:VEVENT
DTSTAMP:20190625T195740Z
STATUS:CONFIRMED
UID:hcspain.clubs.harvard.edu454
DTSTART:20190402T120000Z
DTEND:20190402T120000Z
LOCATION:
SUMMARY:Almuerzo-coloquio con  Nadia Calviño- Ministra de Economía y Empresa  2 abril  2019 14:00h Club Fi
DESCRIPTION:
BEGIN:VALARM
TRIGGER:-PT15M
ACTION:DISPLAY
END:VALARM
TRANSP:OPAQUE
END:VEVENT
END:VCALENDAR
