BEGIN:VCALENDAR
VERSION:2.0
PRODID:-//OmniMagnetCalendar//EN
BEGIN:VEVENT
DTSTAMP:20190625T195740Z
STATUS:CONFIRMED
UID:hcspain.clubs.harvard.edu453
DTSTART:20190404T120000Z
DTEND:20190404T120000Z
LOCATION:
SUMMARY:| HBS CLUB OF BARCELONA | Comida-coloquio con  Manuel Valls 4 abril 2pm Restaurante el Principal
DESCRIPTION:
BEGIN:VALARM
TRIGGER:-PT15M
ACTION:DISPLAY
END:VALARM
TRANSP:OPAQUE
END:VEVENT
END:VCALENDAR
