BEGIN:VCALENDAR
VERSION:2.0
PRODID:-//OmniMagnetCalendar//EN
BEGIN:VEVENT
DTSTAMP:20190625T195740Z
STATUS:CONFIRMED
UID:hcspain.clubs.harvard.edu452
DTSTART:20190405T190000Z
DTEND:20190405T190000Z
LOCATION:
SUMMARY:Cena-baile 5 abril 2019 -Evento conjunto con MIT Club, Stanford, UCLA, Fulbright, Ryder Club
DESCRIPTION:
BEGIN:VALARM
TRIGGER:-PT15M
ACTION:DISPLAY
END:VALARM
TRANSP:OPAQUE
END:VEVENT
END:VCALENDAR
