BEGIN:VCALENDAR
VERSION:2.0
PRODID:-//OmniMagnetCalendar//EN
BEGIN:VEVENT
DTSTAMP:20190625T195740Z
STATUS:CONFIRMED
UID:hcspain.clubs.harvard.edu449
DTSTART:20190312T130000Z
DTEND:20190312T130000Z
LOCATION:
SUMMARY:Almuerzo-coloquio con  Francisco Riberas- 12 marzo 2019 14:00 Club Financiero Génova
DESCRIPTION:
BEGIN:VALARM
TRIGGER:-PT15M
ACTION:DISPLAY
END:VALARM
TRANSP:OPAQUE
END:VEVENT
END:VCALENDAR
