BEGIN:VCALENDAR
VERSION:2.0
PRODID:-//OmniMagnetCalendar//EN
BEGIN:VEVENT
DTSTAMP:20190625T195740Z
STATUS:CONFIRMED
UID:hcspain.clubs.harvard.edu445
DTSTART:20190219T130000Z
DTEND:20190219T130000Z
LOCATION:
SUMMARY:Almuerzo-coloquio con Ismael Clemente- 19 febrero 2019 14:00 Club Financiero Génova
DESCRIPTION:
BEGIN:VALARM
TRIGGER:-PT15M
ACTION:DISPLAY
END:VALARM
TRANSP:OPAQUE
END:VEVENT
END:VCALENDAR
