BEGIN:VCALENDAR
VERSION:2.0
PRODID:-//OmniMagnetCalendar//EN
BEGIN:VEVENT
DTSTAMP:20190625T195740Z
STATUS:CONFIRMED
UID:hcspain.clubs.harvard.edu436
DTSTART:20181213T131500Z
DTEND:20181213T131500Z
LOCATION:
SUMMARY:Almuerzo-coloquio con Jon Rham 13 diciembre 14:15h Hotel Miguel Angel dline goes here...
DESCRIPTION:
BEGIN:VALARM
TRIGGER:-PT15M
ACTION:DISPLAY
END:VALARM
TRANSP:OPAQUE
END:VEVENT
END:VCALENDAR
