BEGIN:VCALENDAR
VERSION:2.0
PRODID:-//OmniMagnetCalendar//EN
BEGIN:VEVENT
DTSTAMP:20190625T195740Z
STATUS:CONFIRMED
UID:hcspain.clubs.harvard.edu435
DTSTART:20181127T130000Z
DTEND:20181127T130000Z
LOCATION:
SUMMARY:HBS CLUB OF BARCELONA | COMIDA-COLOQUIO CON EL SR. JOSEP MARIA BARTOMEU | MARTES 27 DE NOVIEMBRE 2pm
DESCRIPTION:
BEGIN:VALARM
TRIGGER:-PT15M
ACTION:DISPLAY
END:VALARM
TRANSP:OPAQUE
END:VEVENT
END:VCALENDAR
